BEGIN:VCALENDAR
VERSION:2.0
PRODID:-//Victoria Quilters’ Guild - ECPv6.15.17.1//NONSGML v1.0//EN
CALSCALE:GREGORIAN
METHOD:PUBLISH
X-ORIGINAL-URL:https://www.victoriaquiltersguild.org
X-WR-CALDESC:Events for Victoria Quilters’ Guild
REFRESH-INTERVAL;VALUE=DURATION:PT1H
X-Robots-Tag:noindex
X-PUBLISHED-TTL:PT1H
BEGIN:VTIMEZONE
TZID:America/Vancouver
BEGIN:DAYLIGHT
TZOFFSETFROM:-0800
TZOFFSETTO:-0700
TZNAME:PDT
DTSTART:20240310T100000
END:DAYLIGHT
BEGIN:STANDARD
TZOFFSETFROM:-0700
TZOFFSETTO:-0800
TZNAME:PST
DTSTART:20241103T090000
END:STANDARD
BEGIN:DAYLIGHT
TZOFFSETFROM:-0800
TZOFFSETTO:-0700
TZNAME:PDT
DTSTART:20250309T100000
END:DAYLIGHT
BEGIN:STANDARD
TZOFFSETFROM:-0700
TZOFFSETTO:-0800
TZNAME:PST
DTSTART:20251102T090000
END:STANDARD
BEGIN:DAYLIGHT
TZOFFSETFROM:-0800
TZOFFSETTO:-0700
TZNAME:PDT
DTSTART:20260308T100000
END:DAYLIGHT
BEGIN:STANDARD
TZOFFSETFROM:-0700
TZOFFSETTO:-0800
TZNAME:PST
DTSTART:20261101T090000
END:STANDARD
END:VTIMEZONE
BEGIN:VEVENT
DTSTART;TZID=America/Vancouver:20250917T093000
DTEND;TZID=America/Vancouver:20250917T120000
DTSTAMP:20260424T043146
CREATED:20241127T154457Z
LAST-MODIFIED:20251208T160635Z
UID:11132-1758101400-1758110400@www.victoriaquiltersguild.org
SUMMARY:Krista Hennebury: Aurifilosophy (In Person)
DESCRIPTION:Krista (“Poppyprint”) is a quilting teacher\, designer\, pattern book author\, improvisational quilting enthusiast and also an Aurifil Artisan. She will teach us about threads and best practices for thread play. \nKrista will also teach a half-day workshop on Sept 17th (ThreadPlay Pouch) and a full-day workshop on Sept 18 (Cutting Garden Table Runner) \nhttps://www.aurifil.com/krista-hennebury \n 
URL:https://www.victoriaquiltersguild.org/event/krista-hennebury-aurifilosophy/
LOCATION:Emmanuel Baptist Church Victoria\, 2121 Cedar Hill Cross Rd\, Victoria\, BC\, V8P 2R6\, Canada
CATEGORIES:General Meetings
END:VEVENT
END:VCALENDAR